BEGIN:VCALENDAR
VERSION:2.0
PRODID:-//NADI Kampung Simpang Sepayang, Rompin - ECPv6.15.19//NONSGML v1.0//EN
CALSCALE:GREGORIAN
METHOD:PUBLISH
X-ORIGINAL-URL:https://spgsepayang.nadi.my
X-WR-CALDESC:Events for NADI Kampung Simpang Sepayang, Rompin
REFRESH-INTERVAL;VALUE=DURATION:PT1H
X-Robots-Tag:noindex
X-PUBLISHED-TTL:PT1H
BEGIN:VTIMEZONE
TZID:Asia/Kuala_Lumpur
BEGIN:STANDARD
TZOFFSETFROM:+0800
TZOFFSETTO:+0800
TZNAME:+08
DTSTART:20250101T000000
END:STANDARD
END:VTIMEZONE
BEGIN:VEVENT
DTSTART;TZID=Asia/Kuala_Lumpur:20260413T153000
DTEND;TZID=Asia/Kuala_Lumpur:20260413T163000
DTSTAMP:20260420T094909
CREATED:20260411T024051Z
LAST-MODIFIED:20260411T024051Z
UID:13943-1776094200-1776097800@spgsepayang.nadi.my
SUMMARY:DILEA - OPEN TUISYEN (SEJARAH)
DESCRIPTION:AKTIVITI: DILEA – OPEN TUISYEN (SEJARAH) \nSASARAN: PELAJAR SEKOLAH TINGKATAN 1-5
URL:https://spgsepayang.nadi.my/event/dilea-open-tuisyen-sejarah-4/
LOCATION:NADI KG SIMPANG SEPAYANG\, NADI KG SIMPANG SEPAYANG\, ROMPIN\, PAHANG\, 26800\, Malaysia
END:VEVENT
END:VCALENDAR