BEGIN:VCALENDAR
VERSION:2.0
PRODID:-//NADI Kampung Simpang Sepayang, Rompin - ECPv6.15.19//NONSGML v1.0//EN
CALSCALE:GREGORIAN
METHOD:PUBLISH
X-ORIGINAL-URL:https://spgsepayang.nadi.my
X-WR-CALDESC:Events for NADI Kampung Simpang Sepayang, Rompin
REFRESH-INTERVAL;VALUE=DURATION:PT1H
X-Robots-Tag:noindex
X-PUBLISHED-TTL:PT1H
BEGIN:VTIMEZONE
TZID:Asia/Kuala_Lumpur
BEGIN:STANDARD
TZOFFSETFROM:+0800
TZOFFSETTO:+0800
TZNAME:+08
DTSTART:20250101T000000
END:STANDARD
END:VTIMEZONE
BEGIN:VEVENT
DTSTART;TZID=Asia/Kuala_Lumpur:20260119T090000
DTEND;TZID=Asia/Kuala_Lumpur:20260125T180000
DTSTAMP:20260420T094914
CREATED:20260123T041148Z
LAST-MODIFIED:20260123T041148Z
UID:13613-1768813200-1769364000@spgsepayang.nadi.my
SUMMARY:DILEA - ENGLISH PROFICIENCY L23
DESCRIPTION:AKTIVITI: DILEA – ENGLISH PROFICIENCY L23 \nSASARAN: PELAJAR SEKOLAH GUIDANCE TUISYEN TINGKATAN 4 & 5
URL:https://spgsepayang.nadi.my/event/dilea-english-proficiency-l23/
LOCATION:NADI KG SIMPANG SEPAYANG\, NADI KG SIMPANG SEPAYANG\, ROMPIN\, PAHANG\, 26800\, Malaysia
END:VEVENT
BEGIN:VEVENT
DTSTART;TZID=Asia/Kuala_Lumpur:20260123T080000
DTEND;TZID=Asia/Kuala_Lumpur:20260125T180000
DTSTAMP:20260420T094914
CREATED:20260123T040901Z
LAST-MODIFIED:20260123T040901Z
UID:13608-1769155200-1769364000@spgsepayang.nadi.my
SUMMARY:E-SPORT: MODUL 3 REALITI DUNIA E-SUKAN
DESCRIPTION:AKTIVITI: E-SPORT: MODUL 3 REALITI DUNIA E-SUKAN – TEKANAN\, DISIPLIN DN PERSEPSI MASYARAKAT \nSASARAN: TERBUKA
URL:https://spgsepayang.nadi.my/event/e-sport-modul-3-realiti-dunia-e-sukan/
LOCATION:NADI KG SIMPANG SEPAYANG\, NADI KG SIMPANG SEPAYANG\, ROMPIN\, PAHANG\, 26800\, Malaysia
END:VEVENT
END:VCALENDAR