BEGIN:VCALENDAR
VERSION:2.0
PRODID:-//NADI Kampung Simpang Sepayang, Rompin - ECPv6.15.19//NONSGML v1.0//EN
CALSCALE:GREGORIAN
METHOD:PUBLISH
X-ORIGINAL-URL:https://spgsepayang.nadi.my
X-WR-CALDESC:Events for NADI Kampung Simpang Sepayang, Rompin
REFRESH-INTERVAL;VALUE=DURATION:PT1H
X-Robots-Tag:noindex
X-PUBLISHED-TTL:PT1H
BEGIN:VTIMEZONE
TZID:Asia/Kuala_Lumpur
BEGIN:STANDARD
TZOFFSETFROM:+0800
TZOFFSETTO:+0800
TZNAME:+08
DTSTART:20250101T000000
END:STANDARD
END:VTIMEZONE
BEGIN:VEVENT
DTSTART;TZID=Asia/Kuala_Lumpur:20260112T153000
DTEND;TZID=Asia/Kuala_Lumpur:20260112T163000
DTSTAMP:20260420T094825
CREATED:20260111T124010Z
LAST-MODIFIED:20260111T124023Z
UID:13529-1768231800-1768235400@spgsepayang.nadi.my
SUMMARY:DILEA: OPEN TUISYEN SUBJEK SEJARAH
DESCRIPTION:AKTIVITI: DILEA: OPEN TUISYEN SUBJEK SEJARAH \nSASARAN: PELAJAR TINGKATAN 1-5
URL:https://spgsepayang.nadi.my/event/dilea-open-tuisyen-subjek-sejarah-2/
LOCATION:NADI KG SIMPANG SEPAYANG\, NADI KG SIMPANG SEPAYANG\, ROMPIN\, PAHANG\, 26800\, Malaysia
END:VEVENT
END:VCALENDAR