BEGIN:VCALENDAR
VERSION:2.0
PRODID:-//NADI Kampung Simpang Sepayang, Rompin - ECPv6.15.19//NONSGML v1.0//EN
CALSCALE:GREGORIAN
METHOD:PUBLISH
X-WR-CALNAME:NADI Kampung Simpang Sepayang, Rompin
X-ORIGINAL-URL:https://spgsepayang.nadi.my
X-WR-CALDESC:Events for NADI Kampung Simpang Sepayang, Rompin
REFRESH-INTERVAL;VALUE=DURATION:PT1H
X-Robots-Tag:noindex
X-PUBLISHED-TTL:PT1H
BEGIN:VTIMEZONE
TZID:Asia/Kuala_Lumpur
BEGIN:STANDARD
TZOFFSETFROM:+0800
TZOFFSETTO:+0800
TZNAME:+08
DTSTART:20240101T000000
END:STANDARD
END:VTIMEZONE
BEGIN:VEVENT
DTSTART;TZID=Asia/Kuala_Lumpur:20251212T150000
DTEND;TZID=Asia/Kuala_Lumpur:20251212T163000
DTSTAMP:20260420T050438
CREATED:20251207T021411Z
LAST-MODIFIED:20251207T021445Z
UID:13427-1765551600-1765557000@spgsepayang.nadi.my
SUMMARY:MAHIR JAHIT
DESCRIPTION:AKTIVITI: MAHIR JAHIT \nSASARAN: TERBUKA
URL:https://spgsepayang.nadi.my/event/mahir-jahit/
LOCATION:NADI KG SIMPANG SEPAYANG\, NADI KG SIMPANG SEPAYANG\, ROMPIN\, PAHANG\, 26800\, Malaysia
END:VEVENT
END:VCALENDAR